BEGIN:VCALENDAR
PRODID:-//kirchenweb.ch gmbh//veranstaltungsausgabe v2.0//DE
VERSION:2.0
METHOD:PUBLISH
BEGIN:VEVENT
DTSTART:20260502T073000Z
DTEND:20260502T160000Z
LOCATION:Bern\, \,
TRANSP:OPAQUE
SEQUENCE:0
UID:11547-veranstaltung@kirche-diessbach.ch
DTSTAMP:20260312T101712Z
DESCRIPTION:Am Samstag\, 2. Mai 2026 veranstaltet unsere Landeskirche
  einen Tag\, der das gemeinsame Singen feiert und vielfältige Zugänge
  zum Gemeindegesang eröffnet. Liliane Möri und Christian Hofer laden
  euch herzlich ein\, für diesen besonderen Tag gemeinsam nach Bern
  anzureisen.\nDer "SINGTAG!" startet mit einem gemeinsamen Einsingen um
  9.30 Uhr in der Heiliggeistkirche Bern. Anschliessend finden acht
  verschiedene Workshops dreimal parallel statt: Die Besucher:innen können
  kostenlos und ohne Anmeldung auswählen\, wo sie mitsingen möchten. Um
  17 Uhr findet der Singgottesdienst (wiederum in der Heiliggeistkirche)
  statt – ein schöner Abschluss mit viel Musik und Gesang.\n
 \nTreffpunkt: Bahnhof Busswil\, 8.20 Uhr (Abfahrt 8.32 Uhr)\nKontakt:
  Liliane Möri\, T. 079 247 77 91 / liliane.moeri@bluewin.ch\n\n\n\n
 \nKontakt: Pfarrer Christian Hofer\n\nWeitere Infos:
  https://www.kirche-diessbach.ch/veranstaltung/11547
SUMMARY:Berner Singtag!
PRIORITY:5
X-MICROSOFT-CDO-IMPORTANCE:1
CLASS:PUBLIC
END:VEVENT
END:VCALENDAR
