BEGIN:VCALENDAR
PRODID:-//kirchenweb.ch gmbh//veranstaltungsausgabe v2.0//DE
VERSION:2.0
METHOD:PUBLISH
BEGIN:VEVENT
DTSTART:20260405T050000Z
DTEND:20260405T060000Z
LOCATION:Diessbach\, Kirche\, \,
TRANSP:OPAQUE
SEQUENCE:0
UID:11546-veranstaltung@kirche-diessbach.ch
DTSTAMP:20260312T095145Z
DESCRIPTION:Pfarrer Christian Hofer & OeME-Kommission - Liturgie
 \nChristine Ryser - Musik\n\nAnschliessend gemeinsames Frühstück in der
  Pfrundscheune.\n\n\nKontakt: Pfarrer Christian Hofer\n\nWeitere Infos:
  https://www.kirche-diessbach.ch/veranstaltung/11546
SUMMARY:Osterandacht
PRIORITY:5
X-MICROSOFT-CDO-IMPORTANCE:1
CLASS:PUBLIC
END:VEVENT
END:VCALENDAR
