BEGIN:VCALENDAR
PRODID:-//kirchenweb.ch gmbh//veranstaltungsausgabe v2.0//DE
VERSION:2.0
METHOD:PUBLISH
BEGIN:VEVENT
DTSTART:20260303T190000Z
DTEND:20260303T200000Z
LOCATION:Busswil\, Kirchliches Zentrum\, \,
TRANSP:OPAQUE
SEQUENCE:0
UID:11536-veranstaltung@kirche-diessbach.ch
DTSTAMP:20260216T074025Z
DESCRIPTION:In Wort und Bild berichtet Pfarrer Ueli Burkhalter über den
  WGRK (Weltgemeinschaft Reformierter Kirchen) und besonders von seinen
  Eindrücken und Erlebnissen als Delegierter der Schweizer Reformierten an
  der Generalversammlung des WGRK an dessen Generalversammlung in Chiang
  Mai\, Thailand.\n\nKontakt: Pfarrer Ueli Burkhalter\n\nWeitere Infos:
  https://www.kirche-diessbach.ch/veranstaltung/11536
SUMMARY:Vortrag WGRK
PRIORITY:5
X-MICROSOFT-CDO-IMPORTANCE:1
CLASS:PUBLIC
END:VEVENT
END:VCALENDAR
