BEGIN:VCALENDAR
PRODID:-//kirchenweb.ch gmbh//veranstaltungsausgabe v2.0//DE
VERSION:2.0
METHOD:PUBLISH
BEGIN:VEVENT
DTSTART:20260322T180000Z
DTEND:20260322T190000Z
LOCATION:Busswil\, Kirchliches Zentrum\, \,
TRANSP:OPAQUE
SEQUENCE:0
UID:11535-veranstaltung@kirche-diessbach.ch
DTSTAMP:20260216T073728Z
DESCRIPTION:Bergfilm\n1926-1929-1930 / Stummfilm Dokumentation / Regie
  Arnold Fanck / 56 Min.\nEine Auswahl von Szenen aus den Werken des
  Bergfilmpioniers Arnold Fanck zeichnet ein Bild des Bergsteigens in den
  1920er Jahren. Vor Ort und ohne Stuntmen gefilmt\, wagen sich die
  zukünftigen Filmemacher Luis Trenker und Leni Riefenstahl mit dem
  Bergsteigermaterial vergangener Zeiten auf Eis und in Überhänge\,
  inmitten einiger der allerersten Video-Luftaufnahmen.\nSequenzen aus: Der
  heilige Berg (1926)\, Die weisse Hölle vom Piz Palü \n(1929)\, Stürme
  über dem Montblanc (1930)\n\nMusik\nSimon Quinn - Kontrabass und
  Kompositionen\nNolan Quinn - Trompete\nStefan Nagler - Piano\nBrian Quinn
  - Schlagzeug\nTrailer Bergfilm: https://youtu.be/9e0TKh-ynok\n\nProjekt
 \nIn bezaubernden Kino- und Konzertsälen\, in stets gepflegt intimem 
 \nAmbiente\, wird die Vereinigung von Kino und Musik wiederbelebt. Die
  Magie \nder Erinnerungen an 35-Millimeter Spulen die summend im Rücken
  der \nZuschauer ihr flackerndes Licht auf die Leinwand projizieren; ein
  letztes \nHusten im gespannten Raum\, während die Musiker beim Dimmen
  des Saallichtes \nnoch kurz ihre Instrumente stimmen...\n\nProjekt
  Website: https://simonquinn.ch/soundtracks.html\n\nEintritt frei -
  Kollekte\n\nKontakt: sandra.turtschi@kirche-diessbach.ch\n\nWeitere
  Infos: https://www.kirche-diessbach.ch/veranstaltung/11535
SUMMARY:Simon Quinns Sprachlos Ensemble - Stummfilm mit Livemusik
PRIORITY:5
X-MICROSOFT-CDO-IMPORTANCE:1
CLASS:PUBLIC
END:VEVENT
END:VCALENDAR
