BEGIN:VCALENDAR
PRODID:-//kirchenweb.ch gmbh//veranstaltungsausgabe v2.0//DE
VERSION:2.0
METHOD:PUBLISH
BEGIN:VEVENT
DTSTART:20260611T180000Z
DTEND:20260611T190000Z
LOCATION:Diessbach\, Kirche\, \,
TRANSP:OPAQUE
SEQUENCE:0
UID:11481-veranstaltung@kirche-diessbach.ch
DTSTAMP:20260112T083724Z
DESCRIPTION:Kontakt: sandra.turtschi@kirche-diessbach.ch\n\nWeitere Infos:
  https://www.kirche-diessbach.ch/veranstaltung/11481
SUMMARY:E musicae gaudio
PRIORITY:5
X-MICROSOFT-CDO-IMPORTANCE:1
CLASS:PUBLIC
END:VEVENT
END:VCALENDAR
