BEGIN:VCALENDAR
PRODID:-//kirchenweb.ch gmbh//veranstaltungsausgabe v2.0//DE
VERSION:2.0
METHOD:PUBLISH
BEGIN:VEVENT
DTSTART:20260510T080000Z
DTEND:20260510T090000Z
LOCATION:Busswil\, Kirchliches Zentrum\, \,
TRANSP:OPAQUE
SEQUENCE:0
UID:11402-veranstaltung@kirche-diessbach.ch
DTSTAMP:20260413T090644Z
DESCRIPTION:Caroline Hirt - Klavier\n\nKonfirmanden/innen:\n\nGfeller
  Mikko\, Diessbach\nHirsig Mia Lara\, Busswil\nKissling Alina\, Busswil
 \nLanz Jennifer\, Busswil\nNyffenegger Lena\, Dotzigen\nRubin Nayleen
  Lou\, Lyss\nSchaller Damian\, Dotzigen\nSchweizer Sven Lionel\, Dotzigen
 \nSorgen David\, Dotzigen\nTurtschi Lara\, Busswil\n\n\nKontakt: Pfarrer
  Christian Hofer\n\nWeitere Infos:
  https://www.kirche-diessbach.ch/veranstaltung/11402
SUMMARY:Konfirmations-Gottesdienst
PRIORITY:5
X-MICROSOFT-CDO-IMPORTANCE:1
CLASS:PUBLIC
END:VEVENT
END:VCALENDAR
