BEGIN:VCALENDAR
PRODID:-//kirchenweb.ch gmbh//veranstaltungsausgabe v2.0//DE
VERSION:2.0
METHOD:PUBLISH
BEGIN:VEVENT
DTSTART:20260426T170000Z
DTEND:20260426T180000Z
LOCATION:Kirchgemeinde Leugene\, \,
TRANSP:OPAQUE
SEQUENCE:0
UID:11400-veranstaltung@kirche-diessbach.ch
DTSTAMP:20251222T095554Z
DESCRIPTION:Kontakt: sandra.turtschi@kirche-diessbach.ch\n\nWeitere Infos:
  https://www.kirche-diessbach.ch/veranstaltung/11400
SUMMARY:Regionale Taizé-Feier
PRIORITY:5
X-MICROSOFT-CDO-IMPORTANCE:1
CLASS:PUBLIC
END:VEVENT
END:VCALENDAR
