BEGIN:VCALENDAR
PRODID:-//kirchenweb.ch gmbh//veranstaltungsausgabe v2.0//DE
VERSION:2.0
METHOD:PUBLISH
BEGIN:VEVENT
DTSTART:20260429T173000Z
DTEND:20260429T190000Z
LOCATION:Diessbach\, Pfrundscheune\, \,
TRANSP:OPAQUE
SEQUENCE:0
UID:11290-veranstaltung@kirche-diessbach.ch
DTSTAMP:20251201T084359Z
DESCRIPTION:Liebe Singende\n\nIn der Kirchgemeinde gibt es
  glücklicherweise häuftig Gelegenheit zum Singen. Das ist auch an den
  Gottesdiensten hörbar!\n\nDie Taizé-Sing-Gruppe ist eine weitere
  Gelegenheit zum Singen. Warum Taizé-Lieder? Sie sind in der Regel kurz\,
  haben wenig Text und sind wahnsinnig schön. Hier das Wichtigste zu
  dieser Sing-Gruppe:\n\n• vorwiegend Taizé-Lieder\n• gemeinsam\,
  mehrstimmig singen\n• Pfrundscheune Diessbach\n• Mittwoch\, 19.30 bis
  21.00 Uhr\n• regelmässig Teilnahme erwünscht\, aber nicht Bedingung
  zum Mitmachen\n• Auskunft und Anmeldung: Liliane Möri\, 079 247 77 91
  oder 031 351 16 41 oder liliane.moeri@bluewin.ch\n\nKontakt:
  sandra.turtschi@kirche-diessbach.ch\n\nWeitere Infos:
  https://www.kirche-diessbach.ch/veranstaltung/11290
SUMMARY:Taizé-Singgruppe
PRIORITY:5
X-MICROSOFT-CDO-IMPORTANCE:1
CLASS:PUBLIC
END:VEVENT
END:VCALENDAR
