BEGIN:VCALENDAR
PRODID:-//kirchenweb.ch gmbh//veranstaltungsausgabe v2.0//DE
VERSION:2.0
METHOD:PUBLISH
BEGIN:VEVENT
DTSTART:20260507T093000Z
DTEND:20260507T103000Z
LOCATION:Rest. Bären Büetigen\, \,
TRANSP:OPAQUE
SEQUENCE:0
UID:11226-veranstaltung@kirche-diessbach.ch
DTSTAMP:20251125T075141Z
DESCRIPTION:Kontakt: sandra.turtschi@kirche-diessbach.ch\n\nWeitere Infos:
  https://www.kirche-diessbach.ch/veranstaltung/11226
SUMMARY:Mittagstisch in Büetigen
PRIORITY:5
X-MICROSOFT-CDO-IMPORTANCE:1
CLASS:PUBLIC
END:VEVENT
END:VCALENDAR
