BEGIN:VCALENDAR
PRODID:-//kirchenweb.ch gmbh//veranstaltungsausgabe v2.0//DE
VERSION:2.0
METHOD:PUBLISH
BEGIN:VEVENT
DTSTART:20251112T183000Z
DTEND:20251112T193000Z
LOCATION:Reformiertes Kirchgemeindehaus Büren an der Aare\, \,
TRANSP:OPAQUE
SEQUENCE:0
UID:11151-veranstaltung@kirche-diessbach.ch
DTSTAMP:20251103T083052Z
DESCRIPTION:Seit einigen Jahren unterstützen die Kirchgemeinden im
  Seeland Ost mit der Osterkollekte die Friedens- und Entwicklungsarbeit im
  Südsudan. Jan Tschannen hat durch seine Tätigkeit in der
 \nEntwicklungszusammenarbeit den Südsudan bereist und berichtet über die
  Lebensrealitäten vor Ort. Auch das unterstützte Projekt von Mission21
  wird vorgestellt.\nTanzende Menschen in Baströcken vor Lehmhütten. So
  stellt nicht nur das Globibuch Afrika dar. Der Südsudan dürfte eines
  der letzten Länder sein\, in dem man solche Bilder noch antrifft.\n
 \nEintritt frei - Kollekte\n\nFlyer:\n\nKontakt:
  sandra.turtschi@kirche-diessbach.ch\n\nWeitere Infos:
  https://www.kirche-diessbach.ch/veranstaltung/11151
SUMMARY:Lebensrealitäten Südsudan
PRIORITY:5
X-MICROSOFT-CDO-IMPORTANCE:1
CLASS:PUBLIC
END:VEVENT
END:VCALENDAR
