BEGIN:VCALENDAR
PRODID:-//kirchenweb.ch gmbh//veranstaltungsausgabe v2.0//DE
VERSION:2.0
METHOD:PUBLISH
BEGIN:VEVENT
DTSTART:20260430T090000Z
DTEND:20260430T100000Z
LOCATION:Büetigen\, Waldhaus\, \,
TRANSP:OPAQUE
SEQUENCE:0
UID:10958-veranstaltung@kirche-diessbach.ch
DTSTAMP:20250828T071102Z
DESCRIPTION:Kontakt: sandra.turtschi@kirche-diessbach.ch\n\nWeitere Infos:
  https://www.kirche-diessbach.ch/veranstaltung/10958
SUMMARY:Nachmittags-Treff Büetigen - Bräteln beim Waldhaus
PRIORITY:5
X-MICROSOFT-CDO-IMPORTANCE:1
CLASS:PUBLIC
END:VEVENT
END:VCALENDAR
