BEGIN:VCALENDAR
PRODID:-//kirchenweb.ch gmbh//veranstaltungsausgabe v2.0//DE
VERSION:2.0
METHOD:PUBLISH
BEGIN:VEVENT
DTSTART:20260507T123000Z
DTEND:20260507T133000Z
LOCATION:Dotzigen\, Bangerterhaus\, \,
TRANSP:OPAQUE
SEQUENCE:0
UID:10917-veranstaltung@kirche-diessbach.ch
DTSTAMP:20250820T132509Z
DESCRIPTION:Kontakte: Barbara Mosimann 079 544 74 91 / Lotti Schaller 032
  351 20 29\n\nKontakt: sandra.turtschi@kirche-diessbach.ch\n\nWeitere
  Infos: https://www.kirche-diessbach.ch/veranstaltung/10917
SUMMARY:Nachmittags-Treff Dotzigen
PRIORITY:5
X-MICROSOFT-CDO-IMPORTANCE:1
CLASS:PUBLIC
END:VEVENT
END:VCALENDAR
