BEGIN:VCALENDAR
PRODID:-//kirchenweb.ch gmbh//veranstaltungsausgabe v2.0//DE
VERSION:2.0
METHOD:PUBLISH
BEGIN:VEVENT
DTSTART:20250919T161500Z
DTEND:20250919T171500Z
LOCATION:Busswil\, Kirchliches Zentrum\, \,
TRANSP:OPAQUE
SEQUENCE:0
UID:10902-veranstaltung@kirche-diessbach.ch
DTSTAMP:20250902T073358Z
DESCRIPTION:Woher kommt unser Trinkwasser?\n\nRund 140 Liter Trinkwasser
  verbrauchen wir im Durchschnitt pro Person und Tag in der Schweiz. Wird
  der Verbrauch am Arbeitsplatz\, in der Freizeit und in den Ferien
  dazugerechnet\, sind es 160 Liter. Tendenz seit Jahren sinkend. Fast 30 %
  davon verbrauchen wir für die WC-Spülung.\nDoch woher kommt das Wasser
  und wie geht es unserem Trinkwasser in Zeiten von Klimawandel\,
  schmelzenden Gletschern und heißen Temperaturen? Hat es immer genug
  Wasser oder müssen wir uns darauf einstellen\, dass uns bald nicht mehr
  genug Wasser zur Verfügung steht und auch bei uns Konflikte um die
  wertvolle Ressource entbrennen?\n\nDiese Fragen beantwortet uns Felix
  Andres\, Projekt- und Bauleiter der Seeländischen Wasserversorgung SWG\,
  auf einer Besichtigung der Anlagen rund um den Wasserturm im Gimmiz.\n
 \nTreffpunkt: Freitag\, 19.09.2025\, um 18.15 Uhr beim Kirchlichen Zentrum
  Busswil. \nWir starten mit einem kurzen Input zu Kirche und Wasser und
  verschieben dann mit den Autos ins Gimmiz.\nUm 19 Uhr beginnt eine
  spannende Führung durch die Anlage rund um den Wasserturm im Gimmiz mit
  anschließendem Apéro.\n\nCa. um 21 Uhr fahren wir gemeinsam zurück
  nach Busswil.\n\nAnmeldung bis 15.09.2025 an marcrenatoschwab@gmail.com /
  079 732 97 88\n\nWir freuen uns auf spannende Diskussionen.\nKommission
  für Oekumene\, Migration und Entwicklungszusammenarbeit (OemE)\n\nFlyer:
 \n\n\nKontakt: sandra.turtschi@kirche-diessbach.ch\n\nWeitere Infos:
  https://www.kirche-diessbach.ch/veranstaltung/10902
SUMMARY:Woher kommt das Trinkwasser? Besuch des Wasserturms in Gimmiz
PRIORITY:5
X-MICROSOFT-CDO-IMPORTANCE:1
CLASS:PUBLIC
END:VEVENT
END:VCALENDAR
