BEGIN:VCALENDAR
PRODID:-//kirchenweb.ch gmbh//veranstaltungsausgabe v2.0//DE
VERSION:2.0
METHOD:PUBLISH
BEGIN:VEVENT
DTSTART:20251107T160000Z
DTEND:20251107T200000Z
LOCATION:Scheurenstrasse 7\, Dotzigen\, \,
TRANSP:OPAQUE
SEQUENCE:0
UID:10717-veranstaltung@kirche-diessbach.ch
DTSTAMP:20250603T090126Z
DESCRIPTION:Das Profil bleibt heute ausnahmsweise aufgrund eines internen
  Anlasses geschlossen!\n\n\nInfos: christian.hofer@kirche-diessbach.ch /
  079 579 81 12\n\nKontakt: Pfarrer Christian Hofer\n\nWeitere Infos:
  https://www.kirche-diessbach.ch/veranstaltung/10717
SUMMARY:HEUTE GESCHLOSSEN! Profil - Werkstatt plus
PRIORITY:5
X-MICROSOFT-CDO-IMPORTANCE:1
CLASS:PUBLIC
END:VEVENT
END:VCALENDAR
