BEGIN:VCALENDAR
PRODID:-//kirchenweb.ch gmbh//veranstaltungsausgabe v2.0//DE
VERSION:2.0
METHOD:PUBLISH
BEGIN:VEVENT
DTSTART:20251119T183000Z
DTEND:20251119T193000Z
LOCATION:Diessbach\, Kirche\, \,
TRANSP:OPAQUE
SEQUENCE:0
UID:10698-veranstaltung@kirche-diessbach.ch
DTSTAMP:20250603T083119Z
DESCRIPTION:Leitung: Liliane Möri\n\nKontakt:
  sandra.turtschi@kirche-diessbach.ch\n\nWeitere Infos:
  https://www.kirche-diessbach.ch/veranstaltung/10698
SUMMARY:Offenes Singen Probe Singgottesdienst vom 1. Advent
PRIORITY:5
X-MICROSOFT-CDO-IMPORTANCE:1
CLASS:PUBLIC
END:VEVENT
END:VCALENDAR
