BEGIN:VCALENDAR
PRODID:-//kirchenweb.ch gmbh//veranstaltungsausgabe v2.0//DE
VERSION:2.0
METHOD:PUBLISH
BEGIN:VEVENT
DTSTART:20251031T190000Z
DTEND:20251031T200000Z
LOCATION:Kath. Pfarreizentrum Lyss\, \,
TRANSP:OPAQUE
SEQUENCE:0
UID:10568-veranstaltung@kirche-diessbach.ch
DTSTAMP:20251028T084052Z
DESCRIPTION:Kontakt: sandra.turtschi@kirche-diessbach.ch\n\nWeitere Infos:
  https://www.kirche-diessbach.ch/veranstaltung/10568
SUMMARY:Ciné Mondial - OeME Seeland Ost
PRIORITY:5
X-MICROSOFT-CDO-IMPORTANCE:1
CLASS:PUBLIC
END:VEVENT
END:VCALENDAR
