BEGIN:VCALENDAR
PRODID:-//kirchenweb.ch gmbh//veranstaltungsausgabe v2.0//DE
VERSION:2.0
METHOD:PUBLISH
BEGIN:VEVENT
DTSTART:20250624T063000Z
DTEND:20250624T090000Z
LOCATION:Busswil\, Kirchliches Zentrum\, \,
TRANSP:OPAQUE
SEQUENCE:0
UID:10423-veranstaltung@kirche-diessbach.ch
DTSTAMP:20241206T091454Z
DESCRIPTION:Alle\, die gerne in Gesellschaft frühstücken\, sind herzlich
  eingeladen. Wir besorgen: Brot\, Butter und Getränke. Sie bringen etwas
  zum Frühstückbuffet mit\, so viel\, wie Sie selbst essen mögen.\n
 \nAuskunft:\nÄnni Zurbrügg\, Laugnen 1\, 3264 Diessbach\, Tel. 079 290
  86 76\nRessort Seniorenarbeit \n\n\nKontakt:
  sandra.turtschi@kirche-diessbach.ch\n\nWeitere Infos:
  https://www.kirche-diessbach.ch/veranstaltung/10423
SUMMARY:Zmorge-Treff
PRIORITY:5
X-MICROSOFT-CDO-IMPORTANCE:1
CLASS:PUBLIC
END:VEVENT
END:VCALENDAR
