BEGIN:VCALENDAR
PRODID:-//kirchenweb.ch gmbh//veranstaltungsausgabe v2.0//DE
VERSION:2.0
METHOD:PUBLISH
BEGIN:VEVENT
DTSTART:20251224T160000Z
DTEND:20251224T170000Z
LOCATION:Diessbach\, Kirche\, \,
TRANSP:OPAQUE
SEQUENCE:0
UID:10306-veranstaltung@kirche-diessbach.ch
DTSTAMP:20251208T164529Z
DESCRIPTION:Caroline Hirt - Orgel\n\nKontakt: Pfarrerin Laura Lombardo und
  Fiire-Team\n\nWeitere Infos:
  https://www.kirche-diessbach.ch/veranstaltung/10306
SUMMARY:Gottesdienst für Gross und Klein
PRIORITY:5
X-MICROSOFT-CDO-IMPORTANCE:1
CLASS:PUBLIC
END:VEVENT
END:VCALENDAR
