BEGIN:VCALENDAR
PRODID:-//kirchenweb.ch gmbh//veranstaltungsausgabe v2.0//DE
VERSION:2.0
METHOD:PUBLISH
BEGIN:VEVENT
DTSTART:20251109T163000Z
DTEND:20251109T173000Z
LOCATION:Busswil\, Kirchliches Zentrum\, \,
TRANSP:OPAQUE
SEQUENCE:0
UID:10285-veranstaltung@kirche-diessbach.ch
DTSTAMP:20250131T074509Z
DESCRIPTION:Caroline Hirt - Klavier\n\nKontakt: Pfarrer Christian Hofer\n
 \nWeitere Infos: https://www.kirche-diessbach.ch/veranstaltung/10285
SUMMARY:Regionaler Jugendgottesdienst
PRIORITY:5
X-MICROSOFT-CDO-IMPORTANCE:1
CLASS:PUBLIC
END:VEVENT
END:VCALENDAR
