BEGIN:VCALENDAR
PRODID:-//kirchenweb.ch gmbh//veranstaltungsausgabe v2.0//DE
VERSION:2.0
METHOD:PUBLISH
BEGIN:VEVENT
DTSTART:20250928T073000Z
DTEND:20250928T083000Z
LOCATION:Busswil\, Kirchliches Zentrum\, \,
TRANSP:OPAQUE
SEQUENCE:0
UID:10275-veranstaltung@kirche-diessbach.ch
DTSTAMP:20250728T084633Z
DESCRIPTION:Claudia Scheuner - Klavier\n\nKontakt: Pfarrerin Laura
  Lombardo\n\nWeitere Infos:
  https://www.kirche-diessbach.ch/veranstaltung/10275
SUMMARY:Gottesdienst
PRIORITY:5
X-MICROSOFT-CDO-IMPORTANCE:1
CLASS:PUBLIC
END:VEVENT
END:VCALENDAR
