BEGIN:VCALENDAR
PRODID:-//kirchenweb.ch gmbh//veranstaltungsausgabe v2.0//DE
VERSION:2.0
METHOD:PUBLISH
BEGIN:VEVENT
DTSTART:20250713T073000Z
DTEND:20250713T083000Z
LOCATION:open-air\, Steinarena beim Schulhaus\, Büren an der Aare\, \,
TRANSP:OPAQUE
SEQUENCE:0
UID:10260-veranstaltung@kirche-diessbach.ch
DTSTAMP:20250630T074357Z
DESCRIPTION:«Ein geheimnisvoller Besuch»\nGenesis 18\,1-15 - Gott zu
  Besuch bei Abraham und Sarah\n\n\nKontakt: Pfarrerin Petra Burri\n
 \nWeitere Infos: https://www.kirche-diessbach.ch/veranstaltung/10260
SUMMARY:Regionaler Sommer-Gottesdienst\, vorgängig Fahrt zum Sonntag
PRIORITY:5
X-MICROSOFT-CDO-IMPORTANCE:1
CLASS:PUBLIC
END:VEVENT
END:VCALENDAR
