BEGIN:VCALENDAR
PRODID:-//kirchenweb.ch gmbh//veranstaltungsausgabe v2.0//DE
VERSION:2.0
METHOD:PUBLISH
BEGIN:VEVENT
DTSTART;VALUE=DATE:20250309
DTEND;VALUE=DATE:20250310
LOCATION:Diessbach\, \,
TRANSP:OPAQUE
SEQUENCE:0
UID:10230-veranstaltung@kirche-diessbach.ch
DTSTAMP:20250127T102021Z
DESCRIPTION:Kontakt: sandra.turtschi@kirche-diessbach.ch\n\nWeitere Infos:
  https://www.kirche-diessbach.ch/veranstaltung/10230
SUMMARY:Kein Gottesdienst in unserer Kirchgemeinde!
PRIORITY:5
X-MICROSOFT-CDO-IMPORTANCE:1
CLASS:PUBLIC
END:VEVENT
END:VCALENDAR
