BEGIN:VCALENDAR
PRODID:-//kirchenweb.ch gmbh//veranstaltungsausgabe v2.0//DE
VERSION:2.0
METHOD:PUBLISH
BEGIN:VEVENT
DTSTART:20250126T083000Z
DTEND:20250126T093000Z
LOCATION:Busswil\, Kirchliches Zentrum\, \,
TRANSP:OPAQUE
SEQUENCE:0
UID:10219-veranstaltung@kirche-diessbach.ch
DTSTAMP:20241206T092747Z
DESCRIPTION:Claudia Scheuner - Klavier\n\nAnschliessend Apéro\n\nKontakt:
  Pfarrteam\n\nWeitere Infos:
  https://www.kirche-diessbach.ch/veranstaltung/10219
SUMMARY:Kirchgemeinderats-Gottesdienst
PRIORITY:5
X-MICROSOFT-CDO-IMPORTANCE:1
CLASS:PUBLIC
END:VEVENT
END:VCALENDAR
