BEGIN:VCALENDAR
PRODID:-//kirchenweb.ch gmbh//veranstaltungsausgabe v2.0//DE
VERSION:2.0
METHOD:PUBLISH
BEGIN:VEVENT
DTSTART:20251121T103000Z
DTEND:20251121T113000Z
LOCATION:Café Restaurant Siesta\, Busswil\, \,
TRANSP:OPAQUE
SEQUENCE:0
UID:10201-veranstaltung@kirche-diessbach.ch
DTSTAMP:20241119T084332Z
DESCRIPTION:Anmeldung:\nT. 032 385 35 80\n\nKontakt:
  sandra.turtschi@kirche-diessbach.ch\n\nWeitere Infos:
  https://www.kirche-diessbach.ch/veranstaltung/10201
SUMMARY:Mittagstisch in Busswil
PRIORITY:5
X-MICROSOFT-CDO-IMPORTANCE:1
CLASS:PUBLIC
END:VEVENT
END:VCALENDAR
